BEGIN:VCALENDAR
VERSION:2.0
PRODID:-//hacksw/handcal//NONSGML v1.0//EN
BEGIN:VEVENT
SUMMARY:1/8 CHALLENGE LOIRE ATLANTIQUE SF3 vs PAMPRES VALLETAIS
UID:133c7a05-cd5d-49f3-8124-3628cb38466d
DTSTART:20260405T111500Z
DTEND:20260405T133000Z
LOCATION:Localisation   
CATEGORIES:Sportif
STATUS:
URL;VALUE=URI:https://www.herbadillabasket.com/evenements/2026/04/05/18-challenge-loire-atlantique-sf3-vs-pampres-valletais-2435258
END:VEVENT
END:VCALENDAR
