BEGIN:VCALENDAR
VERSION:2.0
PRODID:-//hacksw/handcal//NONSGML v1.0//EN
BEGIN:VEVENT
SUMMARY:BOUGUENAIS BASKET vsU13M (1)
UID:f1172c92-209d-44ee-a4d1-00c9307bde23
DTSTART:20260329T090000Z
DTEND:20260329T111500Z
LOCATION:Localisation SALLE OMNISPORT DE LA BARONNAIS - Rue de la Neustrie 44340 BOUGUENAIS
CATEGORIES:Sportif
STATUS:
URL;VALUE=URI:https://www.herbadillabasket.com/evenements/2026/03/29/bouguenais-basket-vsu13m-1-2390472
END:VEVENT
END:VCALENDAR
